BEGIN:VCALENDAR
VERSION:2.0
PRODID:-//eventon.com NONSGML v1.0//EN
CALSCALE:GREGORIAN
METHOD:PUBLISH
BEGIN:VEVENT
UID:69e8cca2e25bc
DTSTAMP:20260422T132658Z
DTSTART:20260521T220000Z
DTEND:20260521T220000Z
LOCATION:
SUMMARY:Online yoga with Claire
DESCRIPTION:Every Thursday Contact the Carers Centre for more info\nhttps:/
 /carerswd.org/events/online-yoga-with-claire/var/ri-15.l-L1
URL:https://carerswd.org/events/online-yoga-with-claire/var/ri-15.l-L1
END:VEVENT
END:VCALENDAR