BEGIN:VCALENDAR
VERSION:2.0
PRODID:-//eventon.com NONSGML v1.0//EN
CALSCALE:GREGORIAN
METHOD:PUBLISH
BEGIN:VEVENT
UID:69e74aaf22dbc
DTSTAMP:20260421T100015Z
DTSTART:20261001T120000Z
DTEND:20261001T140000Z
LOCATION:Artizan Shopping Centre Food for thought\,  Artizan Shopping Centre\,  Dumbarton
SUMMARY:Carers Outreach Hubs
DESCRIPTION:First Thursday of each month\nhttps://carerswd.org/events/carer
 s-outreach-hubs/var/ri-8.l-L1
URL:https://carerswd.org/events/carers-outreach-hubs/var/ri-8.l-L1
END:VEVENT
END:VCALENDAR